BEGIN:VCALENDAR
VERSION:2.0
PRODID:-//Allston Brighton Community Development Corporation - ECPv6.6.4.2//NONSGML v1.0//EN
CALSCALE:GREGORIAN
METHOD:PUBLISH
X-ORIGINAL-URL:https://allstonbrightoncdc.org
X-WR-CALDESC:Events for Allston Brighton Community Development Corporation
REFRESH-INTERVAL;VALUE=DURATION:PT1H
X-Robots-Tag:noindex
X-PUBLISHED-TTL:PT1H
BEGIN:VTIMEZONE
TZID:America/New_York
BEGIN:DAYLIGHT
TZOFFSETFROM:-0500
TZOFFSETTO:-0400
TZNAME:EDT
DTSTART:20210314T070000
END:DAYLIGHT
BEGIN:STANDARD
TZOFFSETFROM:-0400
TZOFFSETTO:-0500
TZNAME:EST
DTSTART:20211107T060000
END:STANDARD
END:VTIMEZONE
BEGIN:VEVENT
DTSTART;TZID=America/New_York:20211122T173000
DTEND;TZID=America/New_York:20211122T183000
DTSTAMP:20260422T105855
CREATED:20211027T161332Z
LAST-MODIFIED:20211027T161332Z
UID:8945-1637602200-1637605800@allstonbrightoncdc.org
SUMMARY:In-Person City Of Boston Rental Relief Workshop
DESCRIPTION:Are you behind on rent? Allston Brighton CDC is here to help!  \nYou may qualify for up to $15\,000 in funds from the Boston Rental Relief Fund. This fund is available to City of Boston renters who are at risk of losing their housing due to COVID-19. \nJoin ABCDC for a workshop to learn more about the Boston Rental Relief Fund\, find out if you qualify\, and learn how to submit an application! \nWHEN: Monday\, November 22nd from 5:30-6:30PM \nWHERE: All Bright Community Center\, 1287B Commonwealth Avenue\, Allston\, MA \nDinner will be provided! Language translation is available upon request. \n\n    \n    \n    \n    \n        \n\n    \n\n    \n    \n    \n    \n    \n\n\n\n    \n            \n          Rent Relief Info Session Registration\n\n          \n          Sorry\, this form is not available.          \n        \n          \n       \n \n\nAllston Brighton CDC (ABCDC) reserves the right to use any photograph/video taken at any event sponsored by ABCDC without the expressed written permission of those included within the photograph/video. ABCDC may use the photograph/video in publications or other media material produced\, used\, or contracted by ABCDC. To ensure the privacy of individuals and children\, images will not be identified using full names or personal identifying information without written approval from the photographed/videotaped subject\, parent\, or legal guardian. A person attending an ABCDC event who does not wish to have their image recorded for distribution should make their wishes known to the event organizers or contact ABCDC directly.
URL:https://allstonbrightoncdc.org/event/in-person-city-of-boston-rental-relief-workshop/
CATEGORIES:Courses
END:VEVENT
END:VCALENDAR