BEGIN:VCALENDAR
VERSION:2.0
PRODID:-//Allston Brighton Community Development Corporation - ECPv6.6.4.2//NONSGML v1.0//EN
CALSCALE:GREGORIAN
METHOD:PUBLISH
X-ORIGINAL-URL:https://allstonbrightoncdc.org
X-WR-CALDESC:Events for Allston Brighton Community Development Corporation
REFRESH-INTERVAL;VALUE=DURATION:PT1H
X-Robots-Tag:noindex
X-PUBLISHED-TTL:PT1H
BEGIN:VTIMEZONE
TZID:America/New_York
BEGIN:DAYLIGHT
TZOFFSETFROM:-0500
TZOFFSETTO:-0400
TZNAME:EDT
DTSTART:20250309T070000
END:DAYLIGHT
BEGIN:STANDARD
TZOFFSETFROM:-0400
TZOFFSETTO:-0500
TZNAME:EST
DTSTART:20251102T060000
END:STANDARD
END:VTIMEZONE
BEGIN:VEVENT
DTSTART;VALUE=DATE:20251212
DTEND;VALUE=DATE:20251213
DTSTAMP:20260422T143419
CREATED:20251112T210615Z
LAST-MODIFIED:20251112T210615Z
UID:39783-1765497600-1765583999@allstonbrightoncdc.org
SUMMARY:Toys for Tots Registration Deadline
DESCRIPTION:*Toys for Tots is for ABCDC residents only\nAttention residents! December 12th is the registration deadline for our Toys for Tots drive! Eligibility is open to only minors on the lease for your apartment. \nSpaces are limited\, so register soon at this link: Toys For Tots All-Bright Community Center 2025 \nPlease indicate your address\, phone number\, and the age(s) of the minor(s) you are signing up for.
URL:https://allstonbrightoncdc.org/event/toys-for-tots-registration-deadline/
LOCATION:MA
CATEGORIES:ABCDC Residents Only,All Bright Community Center
END:VEVENT
END:VCALENDAR