BEGIN:VCALENDAR
VERSION:2.0
PRODID:-//Allston Brighton Community Development Corporation - ECPv6.6.4.2//NONSGML v1.0//EN
CALSCALE:GREGORIAN
METHOD:PUBLISH
X-WR-CALNAME:Allston Brighton Community Development Corporation
X-ORIGINAL-URL:https://allstonbrightoncdc.org
X-WR-CALDESC:Events for Allston Brighton Community Development Corporation
REFRESH-INTERVAL;VALUE=DURATION:PT1H
X-Robots-Tag:noindex
X-PUBLISHED-TTL:PT1H
BEGIN:VTIMEZONE
TZID:America/New_York
BEGIN:DAYLIGHT
TZOFFSETFROM:-0500
TZOFFSETTO:-0400
TZNAME:EDT
DTSTART:20260308T070000
END:DAYLIGHT
BEGIN:STANDARD
TZOFFSETFROM:-0400
TZOFFSETTO:-0500
TZNAME:EST
DTSTART:20261101T060000
END:STANDARD
END:VTIMEZONE
BEGIN:VEVENT
DTSTART;TZID=America/New_York:20260303T180000
DTEND;TZID=America/New_York:20260303T190000
DTSTAMP:20260423T220708
CREATED:20260212T205408Z
LAST-MODIFIED:20260212T205408Z
UID:41055-1772560800-1772564400@allstonbrightoncdc.org
SUMMARY:Canvas Painting (March 3rd)
DESCRIPTION:The All Bright Community Center invites you to: \n \nThis follow-up class is open to anyone in the community who wants to spend a night painting! Our instructor will walk you through a fun painting activity step-by-step. \nEveryone in the community is welcome to attend! \n \n\n    \n    \n    \n    \n        \n\n    \n\n    \n    \n    \n    \n    \n\n\n\n    \n    \n\nEvents at the All Bright Community Center/ Eventos en el Centro Comunitario All-Bright   \n\nAre you a resident in one of Allston Brighton CDC's properties? Register today for one of the upcoming activities at the All Bright Community Center.Check out the full event calendar here!¿Reside usted en una de las propiedades de Allston Brighton CDC? Regístrese hoy mismo para participar en una de las próximas actividades del Centro Comunitario All Bright.¡Consulta el calendario completo de eventos aquí!\n\n\nFirst Name/ Nombre\n\n\nLast Name/Apellido \n\n\n\nEmail/ Correo\nElectronico \n\n\nWhat event are you registering for?/ Para que tipo de evento se estas registrando?Please select...\nUnderstanding Fraud (April 1st)\nAlzheimer’s Disease: Symptoms and Prevention (April 8th)\nAlzheimer's Disease: Clinical Trial Research Participation (April 15th)\nCommGlen & BJH Tenant Meeting (April 16th)\nAlzheimer's Disease: Community Resources (April 22nd)\nMother's Day Celebration (May 5th)\nIce Cream Social (May 11th)\n\n\nWhat building do you live in?/En que edificio vive? Please select...\nAshford Street\nBrian J. Honan Apartments\nBrighton Allston Apartments\nCarol Avenue Apartments\nCommonwealth Apartments\nGlenville Apartments\nHano Homes\nLong Glen Rental II\nRay Dooley Apartments\nThe William (Bill) E. McGonagle Recovery House\nWarren Hall\n\n\nHow many\npeople are attending? Please include yourself/ Cuantas personas saran\npartcipando en el evento? Por favor de incluirse usted mismo  Please select...\n1\n2\n3\n4\n5+\n\n\n\n\n\nContact Information
URL:https://allstonbrightoncdc.org/event/canvas-painting-march-3rd/
LOCATION:All Bright Community Center\, 1287 Commonwealth Avenue\, Allston\, MA\, 02134\, United States
CATEGORIES:All Bright Community Center,Events
ORGANIZER;CN="Allston Brighton CDC":MAILTO:contact@allstonbrightoncdc.org
END:VEVENT
END:VCALENDAR