BEGIN:VCALENDAR
VERSION:2.0
PRODID:-//Allston Brighton Community Development Corporation - ECPv6.6.4.2//NONSGML v1.0//EN
CALSCALE:GREGORIAN
METHOD:PUBLISH
X-ORIGINAL-URL:https://allstonbrightoncdc.org
X-WR-CALDESC:Events for Allston Brighton Community Development Corporation
REFRESH-INTERVAL;VALUE=DURATION:PT1H
X-Robots-Tag:noindex
X-PUBLISHED-TTL:PT1H
BEGIN:VTIMEZONE
TZID:America/New_York
BEGIN:DAYLIGHT
TZOFFSETFROM:-0500
TZOFFSETTO:-0400
TZNAME:EDT
DTSTART:20260308T070000
END:DAYLIGHT
BEGIN:STANDARD
TZOFFSETFROM:-0400
TZOFFSETTO:-0500
TZNAME:EST
DTSTART:20261101T060000
END:STANDARD
END:VTIMEZONE
BEGIN:VEVENT
DTSTART;TZID=America/New_York:20260302T140000
DTEND;TZID=America/New_York:20260302T150000
DTSTAMP:20260419T114107
CREATED:20260107T191500Z
LAST-MODIFIED:20260107T191500Z
UID:40562-1772460000-1772463600@allstonbrightoncdc.org
SUMMARY:Smoothie Party (March 2\, 2026)
DESCRIPTION:*This event is for ABCDC residents only\n \n\n    \n    \n    \n    \n        \n\n    \n\n    \n    \n    \n    \n    \n\n\n\n    \n    \n\nEvents at the All Bright Community Center/ Eventos en el Centro Comunitario All-Bright   \n\nAre you a resident in one of Allston Brighton CDC's properties? Register today for one of the upcoming activities at the All Bright Community Center.Check out the full event calendar here!¿Reside usted en una de las propiedades de Allston Brighton CDC? Regístrese hoy mismo para participar en una de las próximas actividades del Centro Comunitario All Bright.¡Consulta el calendario completo de eventos aquí!\n\n\nFirst Name/ Nombre\n\n\nLast Name/Apellido \n\n\n\nEmail/ Correo\nElectronico \n\n\nWhat event are you registering for?/ Para que tipo de evento se estas registrando?Please select...\nUnderstanding Fraud (April 1st)\nAlzheimer’s Disease: Symptoms and Prevention (April 8th)\nAlzheimer's Disease: Clinical Trial Research Participation (April 15th)\nCommGlen & BJH Tenant Meeting (April 16th)\nAlzheimer's Disease: Community Resources (April 22nd)\nMother's Day Celebration (May 5th)\nIce Cream Social (May 11th)\n\n\nWhat building do you live in?/En que edificio vive? Please select...\nAshford Street\nBrian J. Honan Apartments\nBrighton Allston Apartments\nCarol Avenue Apartments\nCommonwealth Apartments\nGlenville Apartments\nHano Homes\nLong Glen Rental II\nRay Dooley Apartments\nThe William (Bill) E. McGonagle Recovery House\nWarren Hall\n\n\nHow many\npeople are attending? Please include yourself/ Cuantas personas saran\npartcipando en el evento? Por favor de incluirse usted mismo  Please select...\n1\n2\n3\n4\n5+\n\n\n\n\n\nContact Information
URL:https://allstonbrightoncdc.org/event/smoothie-party-march-2-2026/
LOCATION:All Bright Community Center\, 1287 Commonwealth Avenue\, Allston\, MA\, 02134\, United States
CATEGORIES:ABCDC Residents Only,All Bright Community Center
END:VEVENT
BEGIN:VEVENT
DTSTART;TZID=America/New_York:20260304T110000
DTEND;TZID=America/New_York:20260304T120000
DTSTAMP:20260419T114108
CREATED:20260112T174247Z
LAST-MODIFIED:20260112T174247Z
UID:40617-1772622000-1772625600@allstonbrightoncdc.org
SUMMARY:Resident Coffee Hour (March 4\, 2026)
DESCRIPTION:*This event is for ABCDC residents only\n \n \n  \n 
URL:https://allstonbrightoncdc.org/event/resident-coffee-hour-march-4-2026/
LOCATION:All Bright Community Center\, 1287 Commonwealth Avenue\, Allston\, MA\, 02134\, United States
CATEGORIES:ABCDC Residents Only,All Bright Community Center
END:VEVENT
BEGIN:VEVENT
DTSTART;TZID=America/New_York:20260309T140000
DTEND;TZID=America/New_York:20260309T150000
DTSTAMP:20260419T114108
CREATED:20260107T191601Z
LAST-MODIFIED:20260107T191601Z
UID:40564-1773064800-1773068400@allstonbrightoncdc.org
SUMMARY:Smoothie Party (March 9\, 2026)
DESCRIPTION:*This event is for ABCDC residents only\n \n\n    \n    \n    \n    \n        \n\n    \n\n    \n    \n    \n    \n    \n\n\n\n    \n    \n\nEvents at the All Bright Community Center/ Eventos en el Centro Comunitario All-Bright   \n\nAre you a resident in one of Allston Brighton CDC's properties? Register today for one of the upcoming activities at the All Bright Community Center.Check out the full event calendar here!¿Reside usted en una de las propiedades de Allston Brighton CDC? Regístrese hoy mismo para participar en una de las próximas actividades del Centro Comunitario All Bright.¡Consulta el calendario completo de eventos aquí!\n\n\nFirst Name/ Nombre\n\n\nLast Name/Apellido \n\n\n\nEmail/ Correo\nElectronico \n\n\nWhat event are you registering for?/ Para que tipo de evento se estas registrando?Please select...\nUnderstanding Fraud (April 1st)\nAlzheimer’s Disease: Symptoms and Prevention (April 8th)\nAlzheimer's Disease: Clinical Trial Research Participation (April 15th)\nCommGlen & BJH Tenant Meeting (April 16th)\nAlzheimer's Disease: Community Resources (April 22nd)\nMother's Day Celebration (May 5th)\nIce Cream Social (May 11th)\n\n\nWhat building do you live in?/En que edificio vive? Please select...\nAshford Street\nBrian J. Honan Apartments\nBrighton Allston Apartments\nCarol Avenue Apartments\nCommonwealth Apartments\nGlenville Apartments\nHano Homes\nLong Glen Rental II\nRay Dooley Apartments\nThe William (Bill) E. McGonagle Recovery House\nWarren Hall\n\n\nHow many\npeople are attending? Please include yourself/ Cuantas personas saran\npartcipando en el evento? Por favor de incluirse usted mismo  Please select...\n1\n2\n3\n4\n5+\n\n\n\n\n\nContact Information
URL:https://allstonbrightoncdc.org/event/smoothie-party-march-9-2026/
LOCATION:All Bright Community Center\, 1287 Commonwealth Avenue\, Allston\, MA\, 02134\, United States
CATEGORIES:ABCDC Residents Only,All Bright Community Center
END:VEVENT
BEGIN:VEVENT
DTSTART;TZID=America/New_York:20260311T110000
DTEND;TZID=America/New_York:20260311T120000
DTSTAMP:20260419T114108
CREATED:20260112T174347Z
LAST-MODIFIED:20260112T174347Z
UID:40620-1773226800-1773230400@allstonbrightoncdc.org
SUMMARY:Resident Coffee Hour (March 11\, 2026)
DESCRIPTION:*This event is for ABCDC residents only\n \n \n  \n 
URL:https://allstonbrightoncdc.org/event/resident-coffee-hour-march-11-2026/
LOCATION:All Bright Community Center\, 1287 Commonwealth Avenue\, Allston\, MA\, 02134\, United States
CATEGORIES:ABCDC Residents Only,All Bright Community Center
END:VEVENT
BEGIN:VEVENT
DTSTART;TZID=America/New_York:20260316T080000
DTEND;TZID=America/New_York:20260316T170000
DTSTAMP:20260419T114108
CREATED:20260107T191656Z
LAST-MODIFIED:20260107T191656Z
UID:40565-1773648000-1773680400@allstonbrightoncdc.org
SUMMARY:Smoothie Party (March 16\, 2025)
DESCRIPTION:*This event is for ABCDC residents only\n \n\n    \n    \n    \n    \n        \n\n    \n\n    \n    \n    \n    \n    \n\n\n\n    \n    \n\nEvents at the All Bright Community Center/ Eventos en el Centro Comunitario All-Bright   \n\nAre you a resident in one of Allston Brighton CDC's properties? Register today for one of the upcoming activities at the All Bright Community Center.Check out the full event calendar here!¿Reside usted en una de las propiedades de Allston Brighton CDC? Regístrese hoy mismo para participar en una de las próximas actividades del Centro Comunitario All Bright.¡Consulta el calendario completo de eventos aquí!\n\n\nFirst Name/ Nombre\n\n\nLast Name/Apellido \n\n\n\nEmail/ Correo\nElectronico \n\n\nWhat event are you registering for?/ Para que tipo de evento se estas registrando?Please select...\nUnderstanding Fraud (April 1st)\nAlzheimer’s Disease: Symptoms and Prevention (April 8th)\nAlzheimer's Disease: Clinical Trial Research Participation (April 15th)\nCommGlen & BJH Tenant Meeting (April 16th)\nAlzheimer's Disease: Community Resources (April 22nd)\nMother's Day Celebration (May 5th)\nIce Cream Social (May 11th)\n\n\nWhat building do you live in?/En que edificio vive? Please select...\nAshford Street\nBrian J. Honan Apartments\nBrighton Allston Apartments\nCarol Avenue Apartments\nCommonwealth Apartments\nGlenville Apartments\nHano Homes\nLong Glen Rental II\nRay Dooley Apartments\nThe William (Bill) E. McGonagle Recovery House\nWarren Hall\n\n\nHow many\npeople are attending? Please include yourself/ Cuantas personas saran\npartcipando en el evento? Por favor de incluirse usted mismo  Please select...\n1\n2\n3\n4\n5+\n\n\n\n\n\nContact Information
URL:https://allstonbrightoncdc.org/event/smoothie-party-march-16-2025/
LOCATION:All Bright Community Center\, 1287 Commonwealth Avenue\, Allston\, MA\, 02134\, United States
CATEGORIES:ABCDC Residents Only,All Bright Community Center
END:VEVENT
BEGIN:VEVENT
DTSTART;TZID=America/New_York:20260318T110000
DTEND;TZID=America/New_York:20260318T120000
DTSTAMP:20260419T114109
CREATED:20260112T174458Z
LAST-MODIFIED:20260112T174458Z
UID:40621-1773831600-1773835200@allstonbrightoncdc.org
SUMMARY:Resident Coffee Hour (March 18\, 2026)
DESCRIPTION:*This event is for ABCDC residents only\n \n \n  \n 
URL:https://allstonbrightoncdc.org/event/resident-coffee-hour-march-18-2026/
LOCATION:All Bright Community Center\, 1287 Commonwealth Avenue\, Allston\, MA\, 02134\, United States
CATEGORIES:ABCDC Residents Only,All Bright Community Center
END:VEVENT
BEGIN:VEVENT
DTSTART;TZID=America/New_York:20260323T140000
DTEND;TZID=America/New_York:20260323T150000
DTSTAMP:20260419T114109
CREATED:20260107T191754Z
LAST-MODIFIED:20260107T191754Z
UID:40566-1774274400-1774278000@allstonbrightoncdc.org
SUMMARY:Smoothie Party (March 23\, 2026)
DESCRIPTION:*This event is for ABCDC residents only\n \n\n    \n    \n    \n    \n        \n\n    \n\n    \n    \n    \n    \n    \n\n\n\n    \n    \n\nEvents at the All Bright Community Center/ Eventos en el Centro Comunitario All-Bright   \n\nAre you a resident in one of Allston Brighton CDC's properties? Register today for one of the upcoming activities at the All Bright Community Center.Check out the full event calendar here!¿Reside usted en una de las propiedades de Allston Brighton CDC? Regístrese hoy mismo para participar en una de las próximas actividades del Centro Comunitario All Bright.¡Consulta el calendario completo de eventos aquí!\n\n\nFirst Name/ Nombre\n\n\nLast Name/Apellido \n\n\n\nEmail/ Correo\nElectronico \n\n\nWhat event are you registering for?/ Para que tipo de evento se estas registrando?Please select...\nUnderstanding Fraud (April 1st)\nAlzheimer’s Disease: Symptoms and Prevention (April 8th)\nAlzheimer's Disease: Clinical Trial Research Participation (April 15th)\nCommGlen & BJH Tenant Meeting (April 16th)\nAlzheimer's Disease: Community Resources (April 22nd)\nMother's Day Celebration (May 5th)\nIce Cream Social (May 11th)\n\n\nWhat building do you live in?/En que edificio vive? Please select...\nAshford Street\nBrian J. Honan Apartments\nBrighton Allston Apartments\nCarol Avenue Apartments\nCommonwealth Apartments\nGlenville Apartments\nHano Homes\nLong Glen Rental II\nRay Dooley Apartments\nThe William (Bill) E. McGonagle Recovery House\nWarren Hall\n\n\nHow many\npeople are attending? Please include yourself/ Cuantas personas saran\npartcipando en el evento? Por favor de incluirse usted mismo  Please select...\n1\n2\n3\n4\n5+\n\n\n\n\n\nContact Information
URL:https://allstonbrightoncdc.org/event/smoothie-party-march-23-2026/
LOCATION:All Bright Community Center\, 1287 Commonwealth Avenue\, Allston\, MA\, 02134\, United States
CATEGORIES:ABCDC Residents Only,All Bright Community Center
END:VEVENT
BEGIN:VEVENT
DTSTART;TZID=America/New_York:20260325T110000
DTEND;TZID=America/New_York:20260325T120000
DTSTAMP:20260419T114109
CREATED:20260112T174556Z
LAST-MODIFIED:20260112T174556Z
UID:40622-1774436400-1774440000@allstonbrightoncdc.org
SUMMARY:Resident Coffee Hour (March 25\, 2026)
DESCRIPTION:*This event is for ABCDC residents only\n \n \n  \n 
URL:https://allstonbrightoncdc.org/event/resident-coffee-hour-march-25-2026/
LOCATION:All Bright Community Center\, 1287 Commonwealth Avenue\, Allston\, MA\, 02134\, United States
CATEGORIES:ABCDC Residents Only,All Bright Community Center
END:VEVENT
END:VCALENDAR