BEGIN:VCALENDAR
VERSION:2.0
PRODID:-//Allston Brighton Community Development Corporation - ECPv6.6.4.2//NONSGML v1.0//EN
CALSCALE:GREGORIAN
METHOD:PUBLISH
X-WR-CALNAME:Allston Brighton Community Development Corporation
X-ORIGINAL-URL:https://allstonbrightoncdc.org
X-WR-CALDESC:Events for Allston Brighton Community Development Corporation
REFRESH-INTERVAL;VALUE=DURATION:PT1H
X-Robots-Tag:noindex
X-PUBLISHED-TTL:PT1H
BEGIN:VTIMEZONE
TZID:America/New_York
BEGIN:DAYLIGHT
TZOFFSETFROM:-0500
TZOFFSETTO:-0400
TZNAME:EDT
DTSTART:20260308T070000
END:DAYLIGHT
BEGIN:STANDARD
TZOFFSETFROM:-0400
TZOFFSETTO:-0500
TZNAME:EST
DTSTART:20261101T060000
END:STANDARD
END:VTIMEZONE
BEGIN:VEVENT
DTSTART;TZID=America/New_York:20260106T150000
DTEND;TZID=America/New_York:20260106T170000
DTSTAMP:20260422T130023
CREATED:20251223T175443Z
LAST-MODIFIED:20251223T175443Z
UID:40377-1767711600-1767718800@allstonbrightoncdc.org
SUMMARY:Computer Class January 2026
DESCRIPTION:*This event is for ABCDC residents only\nSign up today for a free computer class! Registration is required and spots are limited- call 617-787-3874 x201 today!
URL:https://allstonbrightoncdc.org/event/computer-class-january-2026/
LOCATION:All Bright Community Center\, 1287 Commonwealth Avenue\, Allston\, MA\, 02134\, United States
CATEGORIES:ABCDC Residents Only,All Bright Community Center
END:VEVENT
END:VCALENDAR