BEGIN:VCALENDAR
VERSION:2.0
PRODID:-//Allston Brighton Community Development Corporation - ECPv6.6.4.2//NONSGML v1.0//EN
CALSCALE:GREGORIAN
METHOD:PUBLISH
X-ORIGINAL-URL:https://allstonbrightoncdc.org
X-WR-CALDESC:Events for Allston Brighton Community Development Corporation
REFRESH-INTERVAL;VALUE=DURATION:PT1H
X-Robots-Tag:noindex
X-PUBLISHED-TTL:PT1H
BEGIN:VTIMEZONE
TZID:America/New_York
BEGIN:DAYLIGHT
TZOFFSETFROM:-0500
TZOFFSETTO:-0400
TZNAME:EDT
DTSTART:20220313T070000
END:DAYLIGHT
BEGIN:STANDARD
TZOFFSETFROM:-0400
TZOFFSETTO:-0500
TZNAME:EST
DTSTART:20221106T060000
END:STANDARD
END:VTIMEZONE
BEGIN:VEVENT
DTSTART;TZID=America/New_York:20221102T140000
DTEND;TZID=America/New_York:20221102T150000
DTSTAMP:20260422T125104
CREATED:20220121T213538Z
LAST-MODIFIED:20220121T213538Z
UID:10158-1667397600-1667401200@allstonbrightoncdc.org
SUMMARY:A/B Homebuyer Program Agents Info Session (November 2022)
DESCRIPTION:The Allston Brighton Homebuyer Program is a down payment and closing cost assistance program that enhances the assistance available to eligible households purchasing a property in the neighborhoods of Allston or Brighton. The program is administered by the Boston Home Center and marketed by the Allston Brighton CDC. It provides up to $50\,000 of assistance to help households overcome the potential barriers to homeownership that a down payment and closing costs can often create. In this one-hour session\, we will cover the program’s eligibility criteria\, the application process\, and considerations for real estate professionals in detail. \nDate: Wednesday\, November 2nd \nTime: 2-3 PM \n\n    \n    \n    \n    \n        \n\n    \n\n    \n    \n    \n    \n    \n\n\n\n    \n            \n          \n\n          \n          Sorry\, this form is not available.          \n        \n          \n       \n \n\nAllston Brighton CDC (ABCDC) reserves the right to use any photograph/video taken at any event sponsored by ABCDC without the expressed written permission of those included within the photograph/video. ABCDC may use the photograph/video in publications or other media material produced\, used\, or contracted by ABCDC. To ensure the privacy of individuals and children\, images will not be identified using full names or personal identifying information without written approval from the photographed/videotaped subject\, parent\, or legal guardian. A person attending an ABCDC event who does not wish to have their image recorded for distribution should make their wishes known to the event organizers or contact ABCDC directly.
URL:https://allstonbrightoncdc.org/event/a-b-homebuyer-program-agents-info-session-november-2022/
CATEGORIES:Courses
END:VEVENT
END:VCALENDAR