BEGIN:VCALENDAR
VERSION:2.0
PRODID:-//Allston Brighton Community Development Corporation - ECPv6.6.4.2//NONSGML v1.0//EN
CALSCALE:GREGORIAN
METHOD:PUBLISH
X-WR-CALNAME:Allston Brighton Community Development Corporation
X-ORIGINAL-URL:https://allstonbrightoncdc.org
X-WR-CALDESC:Events for Allston Brighton Community Development Corporation
REFRESH-INTERVAL;VALUE=DURATION:PT1H
X-Robots-Tag:noindex
X-PUBLISHED-TTL:PT1H
BEGIN:VTIMEZONE
TZID:America/New_York
BEGIN:DAYLIGHT
TZOFFSETFROM:-0500
TZOFFSETTO:-0400
TZNAME:EDT
DTSTART:20220313T070000
END:DAYLIGHT
BEGIN:STANDARD
TZOFFSETFROM:-0400
TZOFFSETTO:-0500
TZNAME:EST
DTSTART:20221106T060000
END:STANDARD
END:VTIMEZONE
BEGIN:VEVENT
DTSTART;TZID=America/New_York:20220308T170000
DTEND;TZID=America/New_York:20220308T200000
DTSTAMP:20260421T203012
CREATED:20211116T204207Z
LAST-MODIFIED:20211117T185404Z
UID:9206-1646758800-1646769600@allstonbrightoncdc.org
SUMMARY:COMPRA DE VIVIENDA 101 (Marzo 2021)
DESCRIPTION:La clase tendrá lugar en las siguientes fechas: \n\n\nMartes\, 8 de Marzo\, 5pm -8pm  \n\n\nJueves\, 10 de Marzo\, 5pm -8pm \n\n\nMartes\, 15 de Marzo\, 5pm -8pm \n\n\nCada clase tendrá lugar en la plataforma Zoom en línea. \nCompra de Vivienda 101 es un curso de nueve (9) horas\, dividido en tres sesiones. Los temas incluyen: \n\nPresupuesto\, Ahorros y Crédito\nObtener una Hipoteca\nBúsqueda de Vivienda\nAspectos Legales de la Compra de Vivienda\nInspección de Vivienda\nSeguro Inmobiliario\nProgramas de Asistencia con el Desembolso Inicial\n\nLos graduados de este curso recibirán un certificado que le dará acceso a asistencia con el desembolso inicial\, la hipoteca ONE de Mass Housing Partnership\, hipotecas de MassHousing\, hipotecas del Departamento de la Vivienda y Desarrollo Urbano (HUD por sus siglas en inglés)\, loterías de viviendas a precio asequible\, y productos hipotecarios para compradores de casa por primera vez provistos por otros prestamistas. El certificado es aceptado a nivel estatal como educación para compradores de casa por primera vez y es válido por tres (3) años. \nEl costo de inscripción para la clase es $50 por persona.  Usted debe presentarse a todas sesiones para poder recibir su certificado. Al tomar la clase\, usted también tendrá acceso ilimitado a sesiones de consejería privadas con Allston Brighton CDC para asistirle a través de su proceso individual de compra de vivienda. \n\n    \n    \n    \n    \n        \n\n    \n\n    \n    \n    \n    \n    \n\n\n\n    \n            \n          \n\n          \n          No hay clases próximas. Para más información\, escriba a counseling@allstonbrightoncdc.org.
URL:https://allstonbrightoncdc.org/event/compra-de-vivienda-101-marzo-2021/
CATEGORIES:Courses,Homebuying 101
END:VEVENT
BEGIN:VEVENT
DTSTART;TZID=America/New_York:20220328T170000
DTEND;TZID=America/New_York:20220328T200000
DTSTAMP:20260421T203012
CREATED:20211221T182343Z
LAST-MODIFIED:20220111T212055Z
UID:9754-1648486800-1648497600@allstonbrightoncdc.org
SUMMARY:March BHC 2022 Homebuying 101 (Virtual)
DESCRIPTION:Allston Brighton CDC is partnering with the Boston Home Center to host a virtual Homebuying 101 class on the following dates: \nMonday\, March 28th @ 5-8 PM\nTuesday\, March 29th @ 5-8 PM\nWednesday\, March 30th @ 5-8 PM \nEach class will be a Zoom Webinar.  \nFunding for these services is provided by the City of Boston through its Department of Neighborhood Development\, Michelle Wu\, Mayor\, Sheila A. Dillon\, Chief and Director. Classes designated as Boston Home Center are classes targeted towards City of Boston residents\, although anyone can register for these classes. They will include presentations and information regarding Boston-specific homebuying programs\, in addition to the standard content presented in every Homebuying 101 class. Fees for Boston Home Center classes are $30 per City of Boston resident and $45 per non-resident. \nHomebuying 101 is a 9-hour course\, covered over 3 sessions. Topics covered include: \n\nBudgeting\, Savings & Credit\nObtaining a Mortgage\nHousing Search\nThe Legal Aspects of Buying a Home\nHome Inspection\nHome Insurance\nDown Payment Assistance Programs\n\nGraduates of this course receive a certificate that grants access to down payment assistance\, Mass Housing Partnership’s ONE Mortgage\, MassHousing mortgages\, HUD mortgages\, home ownership lotteries\, and lender first time homebuyer mortgages. The certificate is accepted statewide for first time homebuyer education and is valid for 3 years. \nYou must attend all three sessions in order to receive your certificate of completion. By taking this class you also have access to unlimited one-on-one pre-purchase counseling sessions at Allston Brighton CDC to assist you through your personal homebuying experience. \n\n    \n    \n    \n    \n        \n\n    \n\n    \n    \n    \n    \n    \n\n\n\n    \n            \n          \n\n          \n          ABCDC is not running any upcoming Boston Home Center (BHC) classes. We hope to run BHC classes again in Fall 2026. Please see our Homebuying 101 page for upcoming non-BHC class dates. If you have any questions\, please reach out to counseling@allstonbrightoncdc.org \nThank you for your understanding! \n  \n            \n        \n          \n       \n \n\nAllston Brighton CDC (ABCDC) reserves the right to use any photograph/video taken at any event sponsored by ABCDC without the expressed written permission of those included within the photograph/video. ABCDC may use the photograph/video in publications or other media material produced\, used\, or contracted by ABCDC. To ensure the privacy of individuals and children\, images will not be identified using full names or personal identifying information without written approval from the photographed/videotaped subject\, parent\, or legal guardian. A person attending an ABCDC event who does not wish to have their image recorded for distribution should make their wishes known to the event organizers or contact ABCDC directly.
URL:https://allstonbrightoncdc.org/event/march-bhc-2022-homebuying-101-virtual/
CATEGORIES:Courses,Homebuying 101
END:VEVENT
END:VCALENDAR