BEGIN:VCALENDAR
VERSION:2.0
PRODID:-//Allston Brighton Community Development Corporation - ECPv6.6.4.2//NONSGML v1.0//EN
CALSCALE:GREGORIAN
METHOD:PUBLISH
X-ORIGINAL-URL:https://allstonbrightoncdc.org
X-WR-CALDESC:Events for Allston Brighton Community Development Corporation
REFRESH-INTERVAL;VALUE=DURATION:PT1H
X-Robots-Tag:noindex
X-PUBLISHED-TTL:PT1H
BEGIN:VTIMEZONE
TZID:America/New_York
BEGIN:DAYLIGHT
TZOFFSETFROM:-0500
TZOFFSETTO:-0400
TZNAME:EDT
DTSTART:20220313T070000
END:DAYLIGHT
BEGIN:STANDARD
TZOFFSETFROM:-0400
TZOFFSETTO:-0500
TZNAME:EST
DTSTART:20221106T060000
END:STANDARD
END:VTIMEZONE
BEGIN:VEVENT
DTSTART;TZID=America/New_York:20220604T090000
DTEND;TZID=America/New_York:20220604T140000
DTSTAMP:20260422T045203
CREATED:20220111T152317Z
LAST-MODIFIED:20220111T212640Z
UID:10000-1654333200-1654351200@allstonbrightoncdc.org
SUMMARY:COMPRA DE VIVIENDA 101 (Junio 2022)
DESCRIPTION:La clase tendrá lugar en las siguientes fechas: \n\nSábado 4 de Junio 9AM- 2PM\nSábado 11 de Junio 9AM- 2PM \n\nCada clase tendrá lugar en la plataforma Zoom en línea. \nLos fondos de estos servicios son proporcionados por la ciudad de Boston\, a través de su departamento de desarrollo de vecindarios (Neighborhood Development)\, Michelle Wu\, Mayor\, Sheila A. Dillon\, Chief and Director. \nCompra de Vivienda 101 es un curso de nueve (9) horas\, dividido en tres sesiones. Los temas incluyen: \n\nPresupuesto\, Ahorros y Crédito\nObtener una Hipoteca\nBúsqueda de Vivienda\nAspectos Legales de la Compra de Vivienda\nInspección de Vivienda\nSeguro Inmobiliario\nProgramas de Asistencia con el Desembolso Inicial\n\nLos graduados de este curso recibirán un certificado que le dará acceso a asistencia con el desembolso inicial\, la hipoteca ONE de Mass Housing Partnership\, hipotecas de MassHousing\, hipotecas del Departamento de la Vivienda y Desarrollo Urbano (HUD por sus siglas en inglés)\, loterías de viviendas a precio asequible\, y productos hipotecarios para compradores de casa por primera vez provistos por otros prestamistas. El certificado es aceptado a nivel estatal como educación para compradores de casa por primera vez y es válido por tres (3) años. \nLas clases designadas como clases del Boston Home Center son clases dirigidas para residentes de la ciudad de Boston\, aunque cualquiera puede registrarse para esas clases. Estas clases incluirán presentaciones e información\, sobre los programas de compra de viviendas específicos para la ciudad de Boston\, además del contenido estándar que se presenta en todas las clases de compra de vivienda 101. El costo para las clases del Boston Home Center son\, $30 para los residentes de la ciudad de Boston y $45 para los que no residen en la ciudad de Boston. \n\n    \n    \n    \n    \n        \n\n    \n\n    \n    \n    \n    \n    \n\n\n\n    \n            \n          \n\n          \n          Disculpe\, este formulario no está disponible.
URL:https://allstonbrightoncdc.org/event/compra-de-vivienda-101-junio-2022/
CATEGORIES:Courses,Homebuying 101
END:VEVENT
END:VCALENDAR