BEGIN:VCALENDAR
VERSION:2.0
PRODID:-//Allston Brighton Community Development Corporation - ECPv6.6.4.2//NONSGML v1.0//EN
CALSCALE:GREGORIAN
METHOD:PUBLISH
X-WR-CALNAME:Allston Brighton Community Development Corporation
X-ORIGINAL-URL:https://allstonbrightoncdc.org
X-WR-CALDESC:Events for Allston Brighton Community Development Corporation
REFRESH-INTERVAL;VALUE=DURATION:PT1H
X-Robots-Tag:noindex
X-PUBLISHED-TTL:PT1H
BEGIN:VTIMEZONE
TZID:America/New_York
BEGIN:DAYLIGHT
TZOFFSETFROM:-0500
TZOFFSETTO:-0400
TZNAME:EDT
DTSTART:20250309T070000
END:DAYLIGHT
BEGIN:STANDARD
TZOFFSETFROM:-0400
TZOFFSETTO:-0500
TZNAME:EST
DTSTART:20251102T060000
END:STANDARD
END:VTIMEZONE
BEGIN:VEVENT
DTSTART;TZID=America/New_York:20251105T110000
DTEND;TZID=America/New_York:20251105T120000
DTSTAMP:20260419T200215
CREATED:20251029T215028Z
LAST-MODIFIED:20251029T215028Z
UID:39585-1762340400-1762344000@allstonbrightoncdc.org
SUMMARY:Job Interviews - Financial Literacy & Workforce Development Workshop Series
DESCRIPTION:  \n \nNail your next interview! Learn how to research organizations\, answer tough questions\, and leave a lasting impression. Let’s turn nerves into confidence! \nLearn about companies or nonprofits\, and ‘thank you’ communication. Practice answering interview questions in a judgement-free environment! \nTo register contact Carmen Peña at pena@allstonbrightoncdc.org or 617-787-3874 ext 201.
URL:https://allstonbrightoncdc.org/event/job-interviews-workshop-series/
LOCATION:All Bright Community Center\, 1287 Commonwealth Avenue\, Allston\, MA\, 02134\, United States
CATEGORIES:All Bright Community Center
END:VEVENT
BEGIN:VEVENT
DTSTART;TZID=America/New_York:20251105T110000
DTEND;TZID=America/New_York:20251105T120000
DTSTAMP:20260419T200215
CREATED:20251105T151957Z
LAST-MODIFIED:20251112T211256Z
UID:39659-1762340400-1762344000@allstonbrightoncdc.org
SUMMARY:Resident Coffee Hour (November 5th 2025)
DESCRIPTION:*This event is for ABCDC residents only\n \nPlease join our Resident Services staff for our weekly Coffee Hour at The All Bright Community Center every Wednesday from 11am-12pm. Come socialize\, drink coffee and tea\, eat snacks\, and enjoy our programming! \nÚnase a nosotros para nuestra HORA DEL CAFÉ semanal en el centro comunitario All Bright todos los miércoles de 11 a 12pm.
URL:https://allstonbrightoncdc.org/event/resident-coffee-hour-november-2025/
LOCATION:All Bright Community Center\, 1287 Commonwealth Avenue\, Allston\, MA\, 02134\, United States
CATEGORIES:ABCDC Residents Only,All Bright Community Center
END:VEVENT
BEGIN:VEVENT
DTSTART;TZID=America/New_York:20251112T110000
DTEND;TZID=America/New_York:20251112T120000
DTSTAMP:20260419T200215
CREATED:20251030T154427Z
LAST-MODIFIED:20251030T155118Z
UID:39599-1762945200-1762948800@allstonbrightoncdc.org
SUMMARY:Budgeting and Saving - Financial Literacy & Workforce Development Workshop Series
DESCRIPTION:Plan smarter\, save bigger! Get hands-on with budgeting tools that help turn your goals into reality. \nThis workshop will cover what a budget is and how to create one\, budget examples\, and tips to achieving future savings goals. \nTo register contact Carmen Peña at pena@allstonbrightoncdc.org or 617-787-3874 ext 201.
URL:https://allstonbrightoncdc.org/event/budgeting-and-saving-workshop-series/
LOCATION:All Bright Community Center\, 1287 Commonwealth Avenue\, Allston\, MA\, 02134\, United States
CATEGORIES:All Bright Community Center
END:VEVENT
BEGIN:VEVENT
DTSTART;TZID=America/New_York:20251112T110000
DTEND;TZID=America/New_York:20251112T120000
DTSTAMP:20260419T200215
CREATED:20251106T175409Z
LAST-MODIFIED:20251112T211236Z
UID:39700-1762945200-1762948800@allstonbrightoncdc.org
SUMMARY:Resident Coffee Hour (November 12th 2025)
DESCRIPTION:*This event is for ABCDC residents only\n \nPlease join our Resident Services staff for our weekly Coffee Hour at The All Bright Community Center every Wednesday from 11am-12pm. Come socialize\, drink coffee and tea\, eat snacks\, and enjoy our programming! \nÚnase a nosotros para nuestra HORA DEL CAFÉ semanal en el centro comunitario All Bright todos los miércoles de 11 a 12pm.
URL:https://allstonbrightoncdc.org/event/resident-coffee-hour-november-12th-2025/
LOCATION:All Bright Community Center\, 1287 Commonwealth Avenue\, Allston\, MA\, 02134\, United States
CATEGORIES:ABCDC Residents Only,All Bright Community Center
END:VEVENT
BEGIN:VEVENT
DTSTART;TZID=America/New_York:20251119T110000
DTEND;TZID=America/New_York:20251119T120000
DTSTAMP:20260419T200215
CREATED:20251030T155035Z
LAST-MODIFIED:20251030T155035Z
UID:39600-1763550000-1763553600@allstonbrightoncdc.org
SUMMARY:Fraud - Financial Literacy & Workforce Development Workshop Series
DESCRIPTION:Your personal info is priceless – protect it like it is! This workshop will give you tips and tricks on protecting your personal information and avoiding fraud. \nThis class will go over: \n\nStatistics\nTypes of Fraud\nProtecting your identity\nWarning signs of identity theft\nPassword tips\n\nTo register contact Carmen Peña at pena@allstonbrightoncdc.org or 617-787-3874 ext 201.
URL:https://allstonbrightoncdc.org/event/fraud-workshop-series/
LOCATION:All Bright Community Center\, 1287 Commonwealth Avenue\, Allston\, MA\, 02134\, United States
CATEGORIES:All Bright Community Center
END:VEVENT
BEGIN:VEVENT
DTSTART;TZID=America/New_York:20251119T110000
DTEND;TZID=America/New_York:20251119T120000
DTSTAMP:20260419T200215
CREATED:20251106T175535Z
LAST-MODIFIED:20251112T211139Z
UID:39701-1763550000-1763553600@allstonbrightoncdc.org
SUMMARY:Resident Coffee Hour (November 19th 2025)
DESCRIPTION:*This event is for ABCDC residents only\n \nPlease join our Resident Services staff for our weekly Coffee Hour at The All Bright Community Center every Wednesday from 11am-12pm. Come socialize\, drink coffee and tea\, eat snacks\, and enjoy our programming! \nÚnase a nosotros para nuestra HORA DEL CAFÉ semanal en el centro comunitario All Bright todos los miércoles de 11 a 12pm.
URL:https://allstonbrightoncdc.org/event/resident-coffee-hour-november-19th-2025/
LOCATION:All Bright Community Center\, 1287 Commonwealth Avenue\, Allston\, MA\, 02134\, United States
CATEGORIES:ABCDC Residents Only,All Bright Community Center
END:VEVENT
BEGIN:VEVENT
DTSTART;TZID=America/New_York:20251125T160000
DTEND;TZID=America/New_York:20251125T180000
DTSTAMP:20260419T200215
CREATED:20251106T174105Z
LAST-MODIFIED:20251119T201005Z
UID:39698-1764086400-1764093600@allstonbrightoncdc.org
SUMMARY:Community Potluck (November 2025)
DESCRIPTION:*This event is for ABCDC residents only\n \n\n    \n    \n    \n    \n        \n\n    \n\n    \n    \n    \n    \n    \n\n\n\n    \n    \n\nEvents at the All Bright Community Center/ Eventos en el Centro Comunitario All-Bright   \n\nAre you a resident in one of Allston Brighton CDC's properties? Register today for one of the upcoming activities at the All Bright Community Center.Check out the full event calendar here!¿Reside usted en una de las propiedades de Allston Brighton CDC? Regístrese hoy mismo para participar en una de las próximas actividades del Centro Comunitario All Bright.¡Consulta el calendario completo de eventos aquí!\n\n\nFirst Name/ Nombre\n\n\nLast Name/Apellido \n\n\n\nEmail/ Correo\nElectronico \n\n\nWhat event are you registering for?/ Para que tipo de evento se estas registrando?Please select...\nUnderstanding Fraud (April 1st)\nAlzheimer’s Disease: Symptoms and Prevention (April 8th)\nAlzheimer's Disease: Clinical Trial Research Participation (April 15th)\nCommGlen & BJH Tenant Meeting (April 16th)\nAlzheimer's Disease: Community Resources (April 22nd)\nMother's Day Celebration (May 5th)\nIce Cream Social (May 11th)\n\n\nWhat building do you live in?/En que edificio vive? Please select...\nAshford Street\nBrian J. Honan Apartments\nBrighton Allston Apartments\nCarol Avenue Apartments\nCommonwealth Apartments\nGlenville Apartments\nHano Homes\nLong Glen Rental II\nRay Dooley Apartments\nThe William (Bill) E. McGonagle Recovery House\nWarren Hall\n\n\nHow many\npeople are attending? Please include yourself/ Cuantas personas saran\npartcipando en el evento? Por favor de incluirse usted mismo  Please select...\n1\n2\n3\n4\n5+\n\n\n\n\n\nContact Information
URL:https://allstonbrightoncdc.org/event/community-potluck-november-2025/
LOCATION:All Bright Community Center\, 1287 Commonwealth Avenue\, Allston\, MA\, 02134\, United States
CATEGORIES:ABCDC Residents Only,All Bright Community Center
END:VEVENT
END:VCALENDAR